

BEGIN:VCALENDAR
VERSION:2.0
PRODID:-//hacksw/handcal//NONSGML v1.0//EN
CALSCALE:GREGORIAN
BEGIN:VEVENT
DTSTART:20260520T000000Z
DTEND:20260520T000000Z
DESCRIPTION:Knight of Columbus Chicken Dinner
LOCATION:420 North St\, Milan\, MI 48160
SUMMARY:Come enjoy the best chicken dinner in the City of Milan. Hosted by the Knights of Columbus of Milan. Join us for great food.
$14.00 
Dine-in and carryout options are available.
URL;VALUE=URI:https://milanevents.org/eventdetail.php?id=2005
DTSTAMP:20260419T110017Z
UID:69e4ee01afcdc
END:VEVENT
END:VCALENDAR