

BEGIN:VCALENDAR
VERSION:2.0
PRODID:-//hacksw/handcal//NONSGML v1.0//EN
CALSCALE:GREGORIAN
BEGIN:VEVENT
DTSTART:20260511T000000Z
DTEND:20260511T000000Z
DESCRIPTION:Open Mic & Early Jazz Jam
LOCATION:9 West Main St
SUMMARY:Come by and play or listen from 6-9pm to our Open Mic Night.  no need to presignup\, just jump on the list when you arrive.  available for all ages.
also if you would like to join the Jazz Jam session\, come a little early (530pm) to join in.
URL;VALUE=URI:https://milanevents.org/eventdetail.php?id=2114
DTSTAMP:20260419T104625Z
UID:69e4eac107871
END:VEVENT
END:VCALENDAR