

BEGIN:VCALENDAR
VERSION:2.0
PRODID:-//hacksw/handcal//NONSGML v1.0//EN
CALSCALE:GREGORIAN
BEGIN:VEVENT
DTSTART:20260508T000000Z
DTEND:20260508T000000Z
DESCRIPTION:Twisted Pretzel Day!
LOCATION:9 West Main St
SUMMARY:Twisted Pretzels are amazing!  grab a variety of delicious pretzels for a minimal cost which you can enjoy with one of our pints\, or cocktails.
all Pretzels come with your choice in dip\, 
Happy Hour runs till 6pm\, so come on the early end and get your pretzel and a deal on your pint.
URL;VALUE=URI:https://milanevents.org/eventdetail.php?id=2140
DTSTAMP:20260419T122524Z
UID:69e501f45efbf
END:VEVENT
END:VCALENDAR