

BEGIN:VCALENDAR
VERSION:2.0
PRODID:-//hacksw/handcal//NONSGML v1.0//EN
CALSCALE:GREGORIAN
BEGIN:VEVENT
DTSTART:20260515T000000Z
DTEND:20260515T000000Z
DESCRIPTION:Twisted Pretzel Day!
LOCATION:9 West Main St
SUMMARY:Twisted Pretzels are amazing!  grab a variety of delicious pretzels for a minimal cost which you can enjoy with one of our pints\, or cocktails.
all Pretzels come with your choice in dip\, 
Happy Hour runs till 6pm\, so come on the early end and get your pretzel and a deal on your pint.
URL;VALUE=URI:https://milanevents.org/eventdetail.php?id=2141
DTSTAMP:20260419T153956Z
UID:69e52f8c01c4d
END:VEVENT
END:VCALENDAR