

BEGIN:VCALENDAR
VERSION:2.0
PRODID:-//hacksw/handcal//NONSGML v1.0//EN
CALSCALE:GREGORIAN
BEGIN:VEVENT
DTSTART:20260429T000000Z
DTEND:20260429T000000Z
DESCRIPTION:Stump Trivia
LOCATION:9 West Main St
SUMMARY:Free and fun trivia\, 2 games\, first at 7pm\, second game starts at 8pm. (win gift cards)
no cost to play\,
URL;VALUE=URI:https://milanevents.org/eventdetail.php?id=2195
DTSTAMP:20260419T140350Z
UID:69e5190697855
END:VEVENT
END:VCALENDAR