

BEGIN:VCALENDAR
VERSION:2.0
PRODID:-//hacksw/handcal//NONSGML v1.0//EN
CALSCALE:GREGORIAN
BEGIN:VEVENT
DTSTART:20260514T000000Z
DTEND:20260514T000000Z
DESCRIPTION:Run/Walk your way to Happy Hour!
LOCATION:
SUMMARY:Meet at 6pm (or a few minutes before)\, Head out for an enjoyable walk or run\, (up to 5 mile loop) and after any level or participation\, enjoy happy hour (until 8pm) and great company. (some weeks we will have shoe companies presenting new shoes for trying on/running in)
URL;VALUE=URI:https://milanevents.org/eventdetail.php?id=2225
DTSTAMP:20260419T153806Z
UID:69e52f1ee0596
END:VEVENT
END:VCALENDAR