

BEGIN:VCALENDAR
VERSION:2.0
PRODID:-//hacksw/handcal//NONSGML v1.0//EN
CALSCALE:GREGORIAN
BEGIN:VEVENT
DTSTART:20260421T000000Z
DTEND:20260421T000000Z
DESCRIPTION:Natural Homemade Cleaners Workshop (Milan Public Library)
LOCATION:45 Neckel Ct.
SUMMARY:Instructor Kim Niblack will teach class participants how to create their own environmentally friendly\, non-toxic cleaning products\, including a glass cleaner\, a scrub like Comet and cleaning wipes\, on Tuesday\, April 21\, 2026\, 7 p.m. – 8 p.m. at The Center\, 45 Neckel Ct. They will also have the opportunity to make a blended homemade cleaner to use at home. Call the Milan Public Library at (734) 439-1240 to register for this free workshop.
URL;VALUE=URI:https://milanevents.org/eventdetail.php?id=2281
DTSTAMP:20260419T135644Z
UID:69e5175ca166a
END:VEVENT
END:VCALENDAR