

BEGIN:VCALENDAR
VERSION:2.0
PRODID:-//hacksw/handcal//NONSGML v1.0//EN
CALSCALE:GREGORIAN
BEGIN:VEVENT
DTSTART:20260517T000000Z
DTEND:20260517T000000Z
DESCRIPTION:Community Family Fun Day at Immaculate Conception Catholic Church:
LOCATION:
SUMMARY:Immaculate Conception Catholic Church invites you to join family activities around the church. The community is welcome to join us with our famous church raffles\, raffle baskets\, family fun\, bounce house and much more fun on May 17th 2026
URL;VALUE=URI:https://milanevents.org/eventdetail.php?id=2308
DTSTAMP:20260419T122445Z
UID:69e501cd0d50f
END:VEVENT
END:VCALENDAR