

BEGIN:VCALENDAR
VERSION:2.0
PRODID:-//hacksw/handcal//NONSGML v1.0//EN
CALSCALE:GREGORIAN
BEGIN:VEVENT
DTSTART:20260426T000000Z
DTEND:20260426T000000Z
DESCRIPTION:Earth Day Fair
LOCATION:89 Wabash St\, Milan\, MI 48160
SUMMARY:The 2nd Annual Earth Day Fair is returning to Wilson Park in Milan\, Michigan.

The Earth Day Fair is a family-friendly community event focused on environmental awareness\, education\, and local engagement. Attendees can look forward to:

Live music and demonstrations:

Double JJ Farms returning with live animals
Guest speakers and presentations
Games and interactive activities for all ages
Additional speakers and entertainment will be announced as the event approaches.

For ongoing updates\, announcements\, and event information\, please follow Moving Milan Forward on Facebook. www.facebook.com/movingmilanforward
URL;VALUE=URI:https://milanevents.org/eventdetail.php?id=2323
DTSTAMP:20260419T105426Z
UID:69e4eca299c1e
END:VEVENT
END:VCALENDAR