

BEGIN:VCALENDAR
VERSION:2.0
PRODID:-//hacksw/handcal//NONSGML v1.0//EN
CALSCALE:GREGORIAN
BEGIN:VEVENT
DTSTART:20260425T000000Z
DTEND:20260425T000000Z
DESCRIPTION:Saturday Storytime (Milan Public Library)
LOCATION:151 Wabash Street
SUMMARY:Storytime includes books\, songs\, dance\, fingerplays\, rhymes\, crafts\, and more!

Saturday Storytime is planned for children 3 years through 1st grade. If your child is slightly older or younger and would enjoy Storytime\, they are welcome to attend. Older and younger siblings of Storytime children are also welcome.

Registration is appreciated\, but not required: https://bit.ly/MPLprogramregistration

Additional information: https://milanlibrary.org/children
Questions: youth@milanlibrary.org or 734-439-1240
URL;VALUE=URI:https://milanevents.org/eventdetail.php?id=2392
DTSTAMP:20260419T154533Z
UID:69e530dd08916
END:VEVENT
END:VCALENDAR