

BEGIN:VCALENDAR
VERSION:2.0
PRODID:-//hacksw/handcal//NONSGML v1.0//EN
CALSCALE:GREGORIAN
BEGIN:VEVENT
DTSTART:20260520T000000Z
DTEND:20260520T000000Z
DESCRIPTION:DnD (Milan Public Library)
LOCATION:
SUMMARY:Dungeons and Dragons
6th - 12th graders 
1st and 3rd Wednesdays
4:30 - 5:45
at Milan Public Library
Registration is appreciated (but not required) here: https://bit.ly/MPL-TNT-events
URL;VALUE=URI:https://milanevents.org/eventdetail.php?id=2405
DTSTAMP:20260419T140122Z
UID:69e5187221cd8
END:VEVENT
END:VCALENDAR