

BEGIN:VCALENDAR
VERSION:2.0
PRODID:-//hacksw/handcal//NONSGML v1.0//EN
CALSCALE:GREGORIAN
BEGIN:VEVENT
DTSTART:20260515T000000Z
DTEND:20260515T000000Z
DESCRIPTION:The Owl Plus Aid in Milan
LOCATION:
SUMMARY:Come join Aid in Milan at the Owl every 3rd Friday. A portion of the proceeds will be donated to programs helping our community!
URL;VALUE=URI:https://milanevents.org/eventdetail.php?id=2455
DTSTAMP:20260419T105754Z
UID:69e4ed7247976
END:VEVENT
END:VCALENDAR