

BEGIN:VCALENDAR
VERSION:2.0
PRODID:-//hacksw/handcal//NONSGML v1.0//EN
CALSCALE:GREGORIAN
BEGIN:VEVENT
DTSTART:20260619T000000Z
DTEND:20260619T000000Z
DESCRIPTION:The Owl Plus Aid in Milan
LOCATION:
SUMMARY:Come join Aid in Milan at the Owl every 3rd Friday. A portion of the proceeds will be donated to programs helping our community!
URL;VALUE=URI:https://milanevents.org/eventdetail.php?id=2456
DTSTAMP:20260419T121603Z
UID:69e4ffc3d37b4
END:VEVENT
END:VCALENDAR