

BEGIN:VCALENDAR
VERSION:2.0
PRODID:-//hacksw/handcal//NONSGML v1.0//EN
CALSCALE:GREGORIAN
BEGIN:VEVENT
DTSTART:20260528T000000Z
DTEND:20260528T000000Z
DESCRIPTION:Milan Community Fair Parade
LOCATION:707 Marvin St\, Milan\, MI 48160
SUMMARY:Everyone is welcome to participate! Floats\, horses\, trucks\, buses\, or even an organization that would like to walk. Parade starts at 6:00 PM. Lineup at 5 PM at Paddock Elementary School. Part of the 77th Milan Community Fair & Fireworks Display (May 28-30\, 2026).
URL;VALUE=URI:https://milanevents.org/eventdetail.php?id=2459
DTSTAMP:20260419T140001Z
UID:69e518215585b
END:VEVENT
END:VCALENDAR