

BEGIN:VCALENDAR
VERSION:2.0
PRODID:-//hacksw/handcal//NONSGML v1.0//EN
CALSCALE:GREGORIAN
BEGIN:VEVENT
DTSTART:20260821T000000Z
DTEND:20260821T000000Z
DESCRIPTION:The Jim Dandy Band Rocks Milan Tolan Square
LOCATION:
SUMMARY:The Jim Dandy Band is honored to be performing Live at Tolan Square in Milan\, Michigan on Friday\, August 21st from 5:30 PM to 8 PM. A great time will be had! The Jim Dandy Band is a five-piece band that plays classic rock\, country and blues.
URL;VALUE=URI:https://milanevents.org/eventdetail.php?id=2460
DTSTAMP:20260419T122846Z
UID:69e502becabba
END:VEVENT
END:VCALENDAR