

BEGIN:VCALENDAR
VERSION:2.0
PRODID:-//hacksw/handcal//NONSGML v1.0//EN
CALSCALE:GREGORIAN
BEGIN:VEVENT
DTSTART:20260612T000000Z
DTEND:20260612T000000Z
DESCRIPTION:Live from Tolan Square - Unkle Lay Lee's Moonshine All-Stars
LOCATION:
SUMMARY:Join us for Live from Tolan Square featuring Unkle Lay Lee's Moonshine All-Stars! Free live music at Tolan Square in downtown Milan. Bring your lawn chairs and enjoy a great evening of music.
URL;VALUE=URI:https://milanevents.org/eventdetail.php?id=2461
DTSTAMP:20260419T122407Z
UID:69e501a73d8a7
END:VEVENT
END:VCALENDAR