

BEGIN:VCALENDAR
VERSION:2.0
PRODID:-//hacksw/handcal//NONSGML v1.0//EN
CALSCALE:GREGORIAN
BEGIN:VEVENT
DTSTART:20260618T000000Z
DTEND:20260618T000000Z
DESCRIPTION:Live from Tolan Square - Detroit Social Club at 3rd Thursdays
LOCATION:
SUMMARY:Join us for Live from Tolan Square featuring the Detroit Social Club at 3rd Thursdays! Free live music at Tolan Square in downtown Milan. Bring your lawn chairs and enjoy a great evening of music.
URL;VALUE=URI:https://milanevents.org/eventdetail.php?id=2462
DTSTAMP:20260419T105656Z
UID:69e4ed383521f
END:VEVENT
END:VCALENDAR