

BEGIN:VCALENDAR
VERSION:2.0
PRODID:-//hacksw/handcal//NONSGML v1.0//EN
CALSCALE:GREGORIAN
BEGIN:VEVENT
DTSTART:20260619T000000Z
DTEND:20260619T000000Z
DESCRIPTION:Live from Tolan Square - Gemini
LOCATION:
SUMMARY:Join us for Live from Tolan Square featuring Gemini! Free live music at Tolan Square in downtown Milan. Bring your lawn chairs and enjoy a great evening of music.
URL;VALUE=URI:https://milanevents.org/eventdetail.php?id=2463
DTSTAMP:20260419T103257Z
UID:69e4e799bb1f3
END:VEVENT
END:VCALENDAR