

BEGIN:VCALENDAR
VERSION:2.0
PRODID:-//hacksw/handcal//NONSGML v1.0//EN
CALSCALE:GREGORIAN
BEGIN:VEVENT
DTSTART:20260724T000000Z
DTEND:20260724T000000Z
DESCRIPTION:Live from Tolan Square - Y-Town Hooligans
LOCATION:
SUMMARY:Join us for Live from Tolan Square featuring the Y-Town Hooligans! Free live music at Tolan Square in downtown Milan. Bring your lawn chairs and enjoy a great evening of music.
URL;VALUE=URI:https://milanevents.org/eventdetail.php?id=2464
DTSTAMP:20260419T140044Z
UID:69e5184cea854
END:VEVENT
END:VCALENDAR