

BEGIN:VCALENDAR
VERSION:2.0
PRODID:-//hacksw/handcal//NONSGML v1.0//EN
CALSCALE:GREGORIAN
BEGIN:VEVENT
DTSTART:20260820T000000Z
DTEND:20260820T000000Z
DESCRIPTION:Live from Tolan Square - Stealin' Copper at 3rd Thursdays
LOCATION:
SUMMARY:Join us for Live from Tolan Square featuring Stealin' Copper at 3rd Thursdays! Free live music at Tolan Square in downtown Milan. Bring your lawn chairs and enjoy a great evening of music.
URL;VALUE=URI:https://milanevents.org/eventdetail.php?id=2465
DTSTAMP:20260419T122504Z
UID:69e501e06d64f
END:VEVENT
END:VCALENDAR