

BEGIN:VCALENDAR
VERSION:2.0
PRODID:-//hacksw/handcal//NONSGML v1.0//EN
CALSCALE:GREGORIAN
BEGIN:VEVENT
DTSTART:20261003T000000Z
DTEND:20261003T000000Z
DESCRIPTION:Milan Coffee Off
LOCATION:
SUMMARY:The Milan Coffee Off returns to Tolan Square! Come out and enjoy a morning of great coffee competition and community fun in downtown Milan.
URL;VALUE=URI:https://milanevents.org/eventdetail.php?id=2466
DTSTAMP:20260419T103441Z
UID:69e4e8015fc31
END:VEVENT
END:VCALENDAR