

BEGIN:VCALENDAR
VERSION:2.0
PRODID:-//hacksw/handcal//NONSGML v1.0//EN
CALSCALE:GREGORIAN
BEGIN:VEVENT
DTSTART:20260515T000000Z
DTEND:20260515T000000Z
DESCRIPTION:Firehouse Friday w/ W4 Country
LOCATION:45 Wabash St
SUMMARY:JOIN W4 COUNTRY’S MORNING SHOW 6A TO 9A. BRING THE KIDS TO SEE THE FIREHOUSE\, MEET ORGANIZATIONS FROM THE COMMUNITY\, AND SEE YOUR MILAN FIREFIGHTERS!

As always\, this community event is family friendly and totally free\, so mark your calendars and make plans to join us and W4 Country!

WE LOOK FORWARD TO SEEING EVERYONE!!
URL;VALUE=URI:https://milanevents.org/eventdetail.php?id=2478
DTSTAMP:20260419T103337Z
UID:69e4e7c1c1134
END:VEVENT
END:VCALENDAR