

BEGIN:VCALENDAR
VERSION:2.0
PRODID:-//hacksw/handcal//NONSGML v1.0//EN
CALSCALE:GREGORIAN
BEGIN:VEVENT
DTSTART:20260425T000000Z
DTEND:20260425T000000Z
DESCRIPTION:Tree Climbing at Wilson Park
LOCATION:
SUMMARY:We are so excited to offer\, once again\, tree climbing with Garrison
from Dungrove Tree Service! Children can climb safely using professional harnesses and equipment while guided by an experienced\, certified arborist. We recommend this activity for children 5-10 years old. *Our safety harness weight maximum is 88 pounds.* Each climber will need to have a waiver signed by a parent or legal guardian 18 years or older. We HIGHLY recommend wearing proper closed-toed shoes. Otherwise\, all safety equipment is provided.
Pricing:
• $10 All-You-Can-Climb Wristband
• FREE for anyone who paid admission to The Play Station that day\, including TPS members (just stop by the front desk before leaving The Play Station to grab your wristband!)
This has been one of our most popular special activities\, and we’re excited to bring it back again!
URL;VALUE=URI:https://milanevents.org/eventdetail.php?id=2482
DTSTAMP:20260419T121738Z
UID:69e500221aa36
END:VEVENT
END:VCALENDAR