

BEGIN:VCALENDAR
VERSION:2.0
PRODID:-//hacksw/handcal//NONSGML v1.0//EN
CALSCALE:GREGORIAN
BEGIN:VEVENT
DTSTART:20260623T000000Z
DTEND:20260623T000000Z
DESCRIPTION:Headstone preservation: protecting your family legacy (Milan Public Library)
LOCATION:Marble Park Cemetery\, 520 W. Main St.\, Milan
SUMMARY:Are you interested in learning how to keep your family headstones clean without harming them? Preservationist Andrew Noland will show us what to do\, and NOT to do\, so we can keep our headstones in good shape for future generations. Materials will be provided\, if you wish\, bring a camp chair and a kneeling pad. 
The workshop will be held at Marble Park Cemetery\, 520 W. Main St.\, Milan. The night of the workshop\, we will meet at the Civil War statue. 
In the event of inclement weather\, the rain date for the workshop is Thursday\, June 25th. 
Call the library at (734) 439-1240 to register for this free workshop.
URL;VALUE=URI:https://milanevents.org/eventdetail.php?id=2498
DTSTAMP:20260419T135813Z
UID:69e517b551254
END:VEVENT
END:VCALENDAR