

BEGIN:VCALENDAR
VERSION:2.0
PRODID:-//hacksw/handcal//NONSGML v1.0//EN
CALSCALE:GREGORIAN
BEGIN:VEVENT
DTSTART:20260502T000000Z
DTEND:20260502T000000Z
DESCRIPTION:Public Safety Day for families with autistic/neurodivergent individuals
LOCATION:
SUMMARY:This free event will be held at Milan Area Fire Department (45 Wabash Street) on Saturday\, May 2\, 2026.

Drop in between 10:00 and 11:30 (children) and 11:30 - 1:00 (older children\, teens\, young adults) to:
Explore police and fire vehicles
Meet police officers and firefighters
Interact with therapy dogs
Experience a mock pullover (what to expect if your vehicle is pulled over by police)
Learn about resources for families

10:00-11:30 : best for preschool and elementary ages
11:30-1:00 : best for older children\, teens\, young adults
We do not have set ages. If you have older children\, you can choose the group that works best for you.

Registration is appreciated but not required. It will help us to know how many people to expect and we'll send you a reminder email the day before the event. You can register here: https://bit.ly/PublicSafetyRegistration.

Thank you to following entities participating in this event:

Milan Area Fire Department: fire safety\, explore the vehicles

Milan Police Department: safety\, mock pullovers (what to expect if your vehicle is stopped by a police officer)\, explore the vehicles

Therapy Dogs

Additional organizations to be posted soon.

This event is hosted by Milan Public Library\, Milan Police Department\, and Milan Area Fire Department.

If you have any questions\, please email youth@milanlibrary.org or call the library at 734-439-1240.
URL;VALUE=URI:https://milanevents.org/eventdetail.php?id=2512
DTSTAMP:20260419T124534Z
UID:69e506ae72e5d
END:VEVENT
END:VCALENDAR