

BEGIN:VCALENDAR
VERSION:2.0
PRODID:-//hacksw/handcal//NONSGML v1.0//EN
CALSCALE:GREGORIAN
BEGIN:VEVENT
DTSTART:20260426T000000Z
DTEND:20260426T000000Z
DESCRIPTION:Audition Workshop - Shakespeare - Milan Theatre Co
LOCATION:
SUMMARY:Audition Workshop - open to all!

MHS Productions in partnership with Milan Arts Project
Join us for a FREE FUN afternoon of play and improv  — open to community members ages 13+. No experience or memorization needed. 

Immediately following Earth Day Festival in Wilson Park
URL;VALUE=URI:https://milanevents.org/eventdetail.php?id=2515
DTSTAMP:20260419T121750Z
UID:69e5002e00953
END:VEVENT
END:VCALENDAR