

BEGIN:VCALENDAR
VERSION:2.0
PRODID:-//hacksw/handcal//NONSGML v1.0//EN
CALSCALE:GREGORIAN
BEGIN:VEVENT
DTSTART:20260718T000000Z
DTEND:20260718T000000Z
DESCRIPTION:Nature Hike: Honoring our connection to the environment
LOCATION:
SUMMARY:Join me Ash from Moon Mama for a leisurely hike through DHMP to notice and observe our summer species. We will be looking for Bumble bees\, Carpenter bees\, Dragonflies\, Turtles\, Birds and whoever else we may meet. It is recommended that you dress for the hike\, wear sunscreen\, insect repellent and bring along water to stay hydrated. Binoculars are always helpful too! All ages are welcome for this free event!
Sunday July 19 at 10 am is reserved for a Rain Date.
Pre-registration is required- https://forms.gle/7RoAMzUXKeGXz4bB9
Draper Houston Meadows Preserve is a preserve and no pets are allowed ever. Thank you.
Moon Mama is all about modern\, inclusive spiritual wellness. That means that I believe that everyone should have safe and affordable access to the healing benefits of art and nature. I hope to provide that space for us all. 🌿🌙🍄🏳️‍🌈💗
Disclaimer: I understand that I participate in this nature hike completely at my own risk. I acknowledge that if I have a health issue or injury\, it is my responsibility and mine alone\, to take appropriate steps in safeguarding myself. Moon Mama LLC and Washtenaw County Parks are not responsible for injury\, death\, or loss of property on this nature hike. By attending this nature hike I agree to these terms.
URL;VALUE=URI:https://milanevents.org/eventdetail.php?id=2516
DTSTAMP:20260419T123010Z
UID:69e50312467ab
END:VEVENT
END:VCALENDAR